BEGIN:VCALENDAR
VERSION:2.0
PRODID:-//ChamberMaster//Event Calendar 2.0//EN
METHOD:PUBLISH
X-PUBLISHED-TTL:P3D
REFRESH-INTERVAL:P3D
CALSCALE:GREGORIAN
BEGIN:VEVENT
DTSTART:20260424T223000Z
DTEND:20260425T013000Z
X-MICROSOFT-CDO-ALLDAYEVENT:FALSE
SUMMARY:Live Music with Montie
DESCRIPTION:To know her is to love her\, to hear her sing\, though... You should plan to be here
X-ALT-DESC;FMTTYPE=text/html:<span style="background-color:rgb(255\, 255\, 255)\; color:rgb(8\, 8\, 9)\; font-family:segoe ui historic\,segoe ui\,helvetica\,arial\,sans-serif\; font-size:14px">To know her is to love her\, to hear her sing\, though... You should plan to be here</span>
LOCATION:Olive Tree & Vine 26 W Main St Cartersville
UID:e.1202.174060
SEQUENCE:3
DTSTAMP:20260423T212440Z
URL:https://business.cartersvillechamber.com/events/details/live-music-with-montie-174060
END:VEVENT

END:VCALENDAR
