BEGIN:VCALENDAR
VERSION:2.0
PRODID:-//ChamberMaster//Event Calendar 2.0//EN
METHOD:PUBLISH
X-PUBLISHED-TTL:P3D
REFRESH-INTERVAL:P3D
CALSCALE:GREGORIAN
BEGIN:VEVENT
DTSTART:20250215T233000Z
DTEND:20250216T023000Z
X-MICROSOFT-CDO-ALLDAYEVENT:FALSE
SUMMARY:Live Music with Jeff Tuggle
DESCRIPTION:Join us as we welcome Jeff Tuggle's return to Olive Tree & Vine\n\nEnjoy great music\, great beer\, great wine\, great friends... you see where we're going here.
X-ALT-DESC;FMTTYPE=text/html:Join us as we welcome Jeff Tuggle&#39\;s return to Olive Tree &amp\; Vine<br />\nEnjoy great music\, great beer\, great wine\, great friends... you see where we&#39\;re going here.
LOCATION:Olive Tree & Vine 26 W Main St Cartersville
UID:e.1202.168222
SEQUENCE:3
DTSTAMP:20260422T120139Z
URL:https://business.cartersvillechamber.com/events/details/live-music-with-randy-owens-168222
END:VEVENT

END:VCALENDAR
