BEGIN:VCALENDAR
VERSION:2.0
PRODID:-//ChamberMaster//Event Calendar 2.0//EN
METHOD:PUBLISH
X-PUBLISHED-TTL:P3D
REFRESH-INTERVAL:P3D
CALSCALE:GREGORIAN
BEGIN:VEVENT
DTSTART:20241109T170000Z
DTEND:20241109T220000Z
X-MICROSOFT-CDO-ALLDAYEVENT:FALSE
SUMMARY:Living History – Walking Through Time
DESCRIPTION:The Living History Tour is an immersive experience that brings Euharlee's rich past to life. Guests will visit key historic sites\, where actors portray local figures and share stories from the town's history. From reenactments based on church records to tales of early settlers\, this guided tour offers a unique glimpse into the people and events that shaped our community. The tour concludes at the Covered Bridge\, where our Veterans' exhibit will be unveiled. Formerly known as the Ghost Walk\, we've rebranded this event to ensure everyone feels welcome\, focusing on factual history rather than spooky stories. This is not a ghost tour\, but an educational journey that brings the true stories of our community and its people to life. Mark your calendars for November 9\, and don't miss this chance to step back in time! Tours begin at 12 PM\, with a $5 admission fee per person. We can't wait to walk through history with you!
X-ALT-DESC;FMTTYPE=text/html:The Living History Tour is an immersive experience that brings Euharlee&#39\;s rich past to life. Guests will visit key historic sites\, where actors portray local figures and share stories from the town&rsquo\;s history. From reenactments based on church records to tales of early settlers\, this guided tour offers a unique glimpse into the people and events that shaped our community. The tour concludes at the Covered Bridge\, where our Veterans&#39\; exhibit will be unveiled. Formerly known as the Ghost Walk\, we&#39\;ve rebranded this event to ensure everyone feels welcome\, focusing on factual history rather than spooky stories. This is not a ghost tour\, but an educational journey that brings the true stories of our community and its people to life. Mark your calendars for November 9\, and don&#39\;t miss this chance to step back in time! Tours begin at 12 PM\, with a $5 admission fee per person. We can&rsquo\;t wait to walk through history with you!
LOCATION:33 Covered Bridge Rd Euharlee\, Ga 30145
UID:e.1202.167347
SEQUENCE:3
DTSTAMP:20260422T155230Z
URL:https://business.cartersvillechamber.com/events/details/living-history-walking-through-time-167347
END:VEVENT

END:VCALENDAR
