BEGIN:VCALENDAR
VERSION:2.0
PRODID:-//ChamberMaster//Event Calendar 2.0//EN
METHOD:PUBLISH
X-PUBLISHED-TTL:P3D
REFRESH-INTERVAL:P3D
CALSCALE:GREGORIAN
BEGIN:VEVENT
DTSTART:20250219T171500Z
DTEND:20250219T190000Z
X-MICROSOFT-CDO-ALLDAYEVENT:FALSE
SUMMARY:Lunch + Learn: Becoming a Dinosaur
DESCRIPTION:Dig into the design process with Prehistoric Nation creators! Hear inspiring stories and discover how they craft the costumes that bring these prehistoric characters to "life". Learn about artistry\, creativity\, and puppetry. See the behind-the-scenes action and engage with the imagination that fuels this incredible project. Please note\, seating is limited and will be on a first come\, first serve basis. Additional seating will be available in the Theater\, but food will NOT be permitted in that area. STAY + EXPLORE! You've heard of birthstones\, but how about birth dinosaurs? Stick around after Lunch + Learn to make a necklace with the dinosaur that matches your birth month.
X-ALT-DESC;FMTTYPE=text/html:Dig into the design process with Prehistoric Nation creators! Hear inspiring stories and discover how they craft the costumes that bring these prehistoric characters to &ldquo\;life&rdquo\;. Learn about artistry\, creativity\, and puppetry. See the behind-the-scenes action and engage with the imagination that fuels this incredible project. Please note\, seating is limited and will be on a first come\, first serve basis. Additional seating will be available in the Theater\, but food will NOT be permitted in that area. STAY + EXPLORE! You&rsquo\;ve heard of birthstones\, but how about birth dinosaurs? Stick around after Lunch + Learn to make a necklace with the dinosaur that matches your birth month.
LOCATION:Tellus Science Museum
UID:e.1202.168078
SEQUENCE:3
DTSTAMP:20260422T115530Z
URL:https://business.cartersvillechamber.com/events/details/lunch-learn-becoming-a-dinosaur-168078
END:VEVENT

END:VCALENDAR
