BEGIN:VCALENDAR
VERSION:2.0
PRODID:-//ChamberMaster//Event Calendar 2.0//EN
METHOD:PUBLISH
X-PUBLISHED-TTL:P3D
REFRESH-INTERVAL:P3D
CALSCALE:GREGORIAN
BEGIN:VEVENT
DTSTART:20251112T171500Z
DTEND:20251112T181500Z
X-MICROSOFT-CDO-ALLDAYEVENT:FALSE
SUMMARY:Lunch + Learn: Coral Reef Conservation
DESCRIPTION:What do Atlanta's MARTA trains and Hawaiian coral reefs have in common? More than you might think! Join us for Lunch + Learn with Dr. James W. Porter\, UGA Distinguished Professor of Ecology and Emmy award winner\, as we explore the surprising story of why old MARTA train cars are being repurposed to create homes for fish\, sea turtles\, and coral off the coast of Georgia! You'll also hear about real-life ocean conservation efforts happening at Molokini Coral Reef State Park\, like removing old bombs from the water\, and how Georgia is playing a key role in helping restore these magical underwater worlds. STAY + EXPLORE! Stick around after the talk to paint your own MARTA train car\, reimagined as a colorful coral reef habitat.
X-ALT-DESC;FMTTYPE=text/html:What do Atlanta&#39\;s MARTA trains and Hawaiian coral reefs have in common? More than you might think! Join us for Lunch + Learn with Dr. James W. Porter\, UGA Distinguished Professor of Ecology and Emmy award winner\, as we explore the surprising story of why old MARTA train cars are being repurposed to create homes for fish\, sea turtles\, and coral off the coast of Georgia! You&rsquo\;ll also hear about real-life ocean conservation efforts happening at Molokini Coral Reef State Park\, like removing old bombs from the water\, and how Georgia is playing a key role in helping restore these magical underwater worlds. STAY + EXPLORE! Stick around after the talk to paint your own MARTA train car\, reimagined as a colorful coral reef habitat.
LOCATION:Tellus Science Museum 100 Tellus Dr.\, Cartersville\, GA 30120
UID:e.1202.171991
SEQUENCE:3
DTSTAMP:20260421T231025Z
URL:https://business.cartersvillechamber.com/events/details/lunch-learn-coral-reef-conservation-171991
END:VEVENT

END:VCALENDAR
