BEGIN:VCALENDAR
VERSION:2.0
PRODID:-//ChamberMaster//Event Calendar 2.0//EN
METHOD:PUBLISH
X-PUBLISHED-TTL:P3D
REFRESH-INTERVAL:P3D
CALSCALE:GREGORIAN
BEGIN:VEVENT
DTSTART:20241218T171500Z
DTEND:20241218T190000Z
X-MICROSOFT-CDO-ALLDAYEVENT:FALSE
SUMMARY:Lunch + Learn: Earl & Starla Go to Space
DESCRIPTION:Get ready for a stellar adventure with our friends from the Georgia Council on Economic Education (GCEE)! Join Angie Battle\, program manager of the GCEE\, as she shares the latest installment of the Earl & Starla children's book series   Earl & Starla Go to Space. In this adventure\, our feline friends discover the costs and benefits of space exploration on producers and consumers. Attendees will receive access to all digital lesson materials including a digital version of the featured picture book. STAY + EXPLORE! Build your own space structure and test its strength. BUT WAIT there's a catch! You have to consider the economic impact and keep the construction project within budget.
X-ALT-DESC;FMTTYPE=text/html:Get ready for a stellar adventure with our friends from the Georgia Council on Economic Education (GCEE)! Join Angie Battle\, program manager of the GCEE\, as she shares the latest installment of the Earl &amp\; Starla children&rsquo\;s book series &ndash\; Earl &amp\; Starla Go to Space. In this adventure\, our feline friends discover the costs and benefits of space exploration on producers and consumers. Attendees will receive access to all digital lesson materials including a digital version of the featured picture book. STAY + EXPLORE! Build your own space structure and test its strength. BUT WAIT&hellip\;there&rsquo\;s a catch! You have to consider the economic impact and keep the construction project within budget.
LOCATION:Tellus Science Museum
UID:e.1202.167564
SEQUENCE:3
DTSTAMP:20260422T155429Z
URL:https://business.cartersvillechamber.com/events/details/lunch-learn-earl-starla-go-to-space-167564
END:VEVENT

END:VCALENDAR
