BEGIN:VCALENDAR
VERSION:2.0
PRODID:-//ChamberMaster//Event Calendar 2.0//EN
METHOD:PUBLISH
X-PUBLISHED-TTL:P3D
REFRESH-INTERVAL:P3D
CALSCALE:GREGORIAN
BEGIN:VEVENT
DTSTART:20250115T171500Z
DTEND:20250115T190000Z
X-MICROSOFT-CDO-ALLDAYEVENT:FALSE
SUMMARY:Lunch + Learn: Forecasting the Future with Glenn Burns
DESCRIPTION:Join veteran meteorologist Glenn Burns for an insider's look at careers in meteorology! Burns will share his journey into the field\, the various career paths meteorology offers\, and what it's like to work with a news team to deliver the forecasts we see on TV. Also\, gain insights into the high-stakes world of field reporting\, especially during severe weather events. This presentation is perfect for weather enthusiasts and those curious about careers in STEM!
X-ALT-DESC;FMTTYPE=text/html:Join veteran meteorologist Glenn Burns for an insider&rsquo\;s look at careers in meteorology! Burns will share his journey into the field\, the various career paths meteorology offers\, and what it&rsquo\;s like to work with a news team to deliver the forecasts we see on TV. Also\, gain insights into the high-stakes world of field reporting\, especially during severe weather events. This presentation is perfect for weather enthusiasts and those curious about careers in STEM!
LOCATION:Tellus Science Museum
UID:e.1202.168075
SEQUENCE:3
DTSTAMP:20260422T130010Z
URL:https://business.cartersvillechamber.com/events/details/lunch-learn-forecasting-the-future-with-glenn-burns-168075
END:VEVENT

END:VCALENDAR
