BEGIN:VCALENDAR
VERSION:2.0
PRODID:-//ChamberMaster//Event Calendar 2.0//EN
METHOD:PUBLISH
X-PUBLISHED-TTL:P3D
REFRESH-INTERVAL:P3D
CALSCALE:GREGORIAN
BEGIN:VEVENT
DTSTART:20250521T161500Z
DTEND:20250521T180000Z
X-MICROSOFT-CDO-ALLDAYEVENT:FALSE
SUMMARY:Lunch + Learn: How Geology Made Cartersville
DESCRIPTION:Cartersville is a rock lover's paradise\, with nearly every rock type in Georgia found within 20 miles! The area's rich geological history spans over 500 million years\, from ancient sedimentary rocks to the 1.1 billion year-old metagranite\, one of the oldest rocks in Georgia. Strategically located at the bend of the Great Valley\, Cartersville was once a key passage for the builders of Etowah Mounds and later became a vital route for the Western & Atlantic Railroad and today's highways. Beyond its history\, the region is packed with natural resources\, including iron\, manganese\, barite\, and ochre. STAY + EXPLORE! Get ready to unleash your creativity and paint with minerals! Make your own paint using colorful ochre and then use it to create a piece of art.
X-ALT-DESC;FMTTYPE=text/html:Cartersville is a rock lover&rsquo\;s paradise\, with nearly every rock type in Georgia found within 20 miles! The area&rsquo\;s rich geological history spans over 500 million years\, from ancient sedimentary rocks to the 1.1 billion year-old metagranite\, one of the oldest rocks in Georgia. Strategically located at the bend of the Great Valley\, Cartersville was once a key passage for the builders of Etowah Mounds and later became a vital route for the Western &amp\; Atlantic Railroad and today&rsquo\;s highways. Beyond its history\, the region is packed with natural resources\, including iron\, manganese\, barite\, and ochre. STAY + EXPLORE! Get ready to unleash your creativity and paint with minerals! Make your own paint using colorful ochre and then use it to create a piece of art.
LOCATION:Tellus Science Museum
UID:e.1202.170667
SEQUENCE:3
DTSTAMP:20260422T080729Z
URL:https://business.cartersvillechamber.com/events/details/lunch-learn-how-geology-made-cartersville-170667
END:VEVENT

END:VCALENDAR
