BEGIN:VCALENDAR
VERSION:2.0
PRODID:-//ChamberMaster//Event Calendar 2.0//EN
METHOD:PUBLISH
X-PUBLISHED-TTL:P3D
REFRESH-INTERVAL:P3D
CALSCALE:GREGORIAN
BEGIN:VEVENT
DTSTART:20240717T161500Z
DTEND:20240717T180000Z
X-MICROSOFT-CDO-ALLDAYEVENT:FALSE
SUMMARY:Lunch + Learn: Hydroponics
DESCRIPTION:Join us for an exploration into the science of growing plants without using soil\, also known as hydroponics. Hydroponic farmer and founder of the indoor farming company Produce'd\, Greg Crafter\, will discuss efficiencies\, sustainability\, and the environmental impact that hydroponics play in our lives and the world around us.
X-ALT-DESC;FMTTYPE=text/html:Join us for an exploration into the science of growing plants without using soil\, also known as hydroponics. Hydroponic farmer and founder of the indoor farming company Produce&rsquo\;d\, Greg Crafter\, will discuss efficiencies\, sustainability\, and the environmental impact that hydroponics play in our lives and the world around us.
LOCATION:Tellus Science Museum
UID:e.1202.165894
SEQUENCE:3
DTSTAMP:20260422T213931Z
URL:https://business.cartersvillechamber.com/events/details/lunch-learn-hydroponics-165894
END:VEVENT

END:VCALENDAR
