BEGIN:VCALENDAR
VERSION:2.0
PRODID:-//ChamberMaster//Event Calendar 2.0//EN
METHOD:PUBLISH
X-PUBLISHED-TTL:P3D
REFRESH-INTERVAL:P3D
CALSCALE:GREGORIAN
BEGIN:VEVENT
DTSTART:20251015T161500Z
DTEND:20251015T171500Z
X-MICROSOFT-CDO-ALLDAYEVENT:FALSE
SUMMARY:Lunch + Learn: Journey to Space
DESCRIPTION:Outer space is one of the most extreme environments imaginable. It's freezing cold\, airless\, and covered in cosmic radiation. But with the help of technology and brilliant engineering\, astronauts have successfully survived and thrived in this forbidding frontier. Join us for an interactive Lunch + Learn\, accompanying the opening of our new traveling exhibit\, Journey to Space. Get a glimpse into the real challenges and dangers of space exploration along with the high-tech solutions that keep astronauts safe. With high-flying rocket launches and the chance to create your very own vacuum chamber\, you'll be part of the action in every demonstration.*
X-ALT-DESC;FMTTYPE=text/html:Outer space is one of the most extreme environments imaginable. It&rsquo\;s freezing cold\, airless\, and covered in cosmic radiation. But with the help of technology and brilliant engineering\, astronauts have successfully survived and thrived in this forbidding frontier. Join us for an interactive Lunch + Learn\, accompanying the opening of our new traveling exhibit\, Journey to Space. Get a glimpse into the real challenges and dangers of space exploration along with the high-tech solutions that keep astronauts safe. With high-flying rocket launches and the chance to create your very own vacuum chamber\, you&rsquo\;ll be part of the action in every demonstration.*
LOCATION:Tellus Science Museum
UID:e.1202.171944
SEQUENCE:3
DTSTAMP:20260422T003611Z
URL:https://business.cartersvillechamber.com/events/details/lunch-learn-journey-to-space-171944
END:VEVENT

END:VCALENDAR
