BEGIN:VCALENDAR
VERSION:2.0
PRODID:-//ChamberMaster//Event Calendar 2.0//EN
METHOD:PUBLISH
X-PUBLISHED-TTL:P3D
REFRESH-INTERVAL:P3D
CALSCALE:GREGORIAN
BEGIN:VEVENT
DTSTART:20240515T160000Z
DTEND:20240515T170000Z
X-MICROSOFT-CDO-ALLDAYEVENT:FALSE
SUMMARY:Lunch & Learn: Leslie McCrary
DESCRIPTION:Join us and Leslie McCrary! In celebration of Historic Preservation Month\, join us in a conversation with Leslie McCrary as we explore the narrative surrounding her notable historic residence situated on Bartow Street. Leslie will provide insights into the recent restoration of her porch\, offering a firsthand account of the process and its significance in preserving the architectural integrity of her home.
X-ALT-DESC;FMTTYPE=text/html:Join us and Leslie McCrary! In celebration of Historic Preservation Month\, join us in a conversation with Leslie McCrary as we explore the narrative surrounding her notable historic residence situated on Bartow Street. Leslie will provide insights into the recent restoration of her porch\, offering a firsthand account of the process and its significance in preserving the architectural integrity of her home.
LOCATION:Bartow History Museum 4 E. Church Street Cartersville\, GA 30120
UID:e.1202.164345
SEQUENCE:3
DTSTAMP:20260423T003655Z
URL:https://business.cartersvillechamber.com/events/details/lunch-learn-leslie-mccrary-164345
END:VEVENT

END:VCALENDAR
