BEGIN:VCALENDAR
VERSION:2.0
PRODID:-//ChamberMaster//Event Calendar 2.0//EN
METHOD:PUBLISH
X-PUBLISHED-TTL:P3D
REFRESH-INTERVAL:P3D
CALSCALE:GREGORIAN
BEGIN:VEVENT
DTSTART:20240807T161500Z
DTEND:20240807T180000Z
X-MICROSOFT-CDO-ALLDAYEVENT:FALSE
SUMMARY:Lunch + Learn: Meteors and Meteorites
DESCRIPTION:Learn all about this year's Perseid Meteor Shower! The annual celestial event will be unobstructed by the Moon's light this year. Tellus Astronomer Karisa Zdanky will explain the science behind meteor showers\, discuss the difference between meteors and meteorites\, and will explain how you can get ready to watch this year's Perseid Meteor Shower. Guests will also have the opportunity to see and touch real meteorites.
X-ALT-DESC;FMTTYPE=text/html:Learn all about this year&rsquo\;s Perseid Meteor Shower! The annual celestial event will be unobstructed by the Moon&rsquo\;s light this year. Tellus Astronomer Karisa Zdanky will explain the science behind meteor showers\, discuss the difference between meteors and meteorites\, and will explain how you can get ready to watch this year&rsquo\;s Perseid Meteor Shower. Guests will also have the opportunity to see and touch real meteorites.
LOCATION:Tellus Science Museum
UID:e.1202.165895
SEQUENCE:3
DTSTAMP:20260422T202104Z
URL:https://business.cartersvillechamber.com/events/details/lunch-learn-meteors-and-meteorites-165895
END:VEVENT

END:VCALENDAR
