BEGIN:VCALENDAR
VERSION:2.0
PRODID:-//ChamberMaster//Event Calendar 2.0//EN
METHOD:PUBLISH
X-PUBLISHED-TTL:P3D
REFRESH-INTERVAL:P3D
CALSCALE:GREGORIAN
BEGIN:VEVENT
DTSTART:20240522T161500Z
DTEND:20240522T180000Z
X-MICROSOFT-CDO-ALLDAYEVENT:FALSE
SUMMARY:Lunch + Learn: Science of Color
DESCRIPTION:People have always loved to adorn themselves\, especially with bright colors. Join Tellus educator Mary Beth Powell as she takes a quick dip into the science of color in textiles\, with a focus on natural dyes and their chemistry\, history\, and application.
X-ALT-DESC;FMTTYPE=text/html:People have always loved to adorn themselves\, especially with bright colors. Join Tellus educator Mary Beth Powell as she takes a quick dip into the science of color in textiles\, with a focus on natural dyes and their chemistry\, history\, and application.
LOCATION:Tellus Science Museum
UID:e.1202.164276
SEQUENCE:3
DTSTAMP:20260423T004201Z
URL:https://business.cartersvillechamber.com/events/details/lunch-learn-science-of-color-164276
END:VEVENT

END:VCALENDAR
