BEGIN:VCALENDAR
VERSION:2.0
PRODID:-//ChamberMaster//Event Calendar 2.0//EN
METHOD:PUBLISH
X-PUBLISHED-TTL:P3D
REFRESH-INTERVAL:P3D
CALSCALE:GREGORIAN
BEGIN:VEVENT
DTSTART;VALUE=DATE:20250601
DTEND;VALUE=DATE:20250616
TRANSP:TRANSPARENT
X-MICROSOFT-CDO-ALLDAYEVENT:TRUE
SUMMARY:Making the Grade
DESCRIPTION:We reward students for working hard in school. Bring your semester report card to any Family Savings branch and collect your earnings.\n\nFebruary 1st - 15th and\n\nJune 1st - 15th\n\nDon't have an account? See one of our Member Service Reps and JOIN TODAY!
X-ALT-DESC;FMTTYPE=text/html:<p>We reward students for working hard in school. Bring your semester report card to any Family Savings branch and collect your earnings.</p>\n\n<p>February 1st - 15th and</p>\n\n<p>June 1st - 15th</p>\n\n<p>Don&#39\;t have an account? See one of our Member Service Reps and JOIN TODAY!</p>\n
LOCATION:All Family Savings Locations
UID:e.1202.171005
SEQUENCE:3
DTSTAMP:20260422T062105Z
URL:https://business.cartersvillechamber.com/events/details/making-the-grade-171005
END:VEVENT

END:VCALENDAR
