BEGIN:VCALENDAR
VERSION:2.0
PRODID:-//ChamberMaster//Event Calendar 2.0//EN
METHOD:PUBLISH
X-PUBLISHED-TTL:P3D
REFRESH-INTERVAL:P3D
CALSCALE:GREGORIAN
BEGIN:VEVENT
DTSTART:20260407T120000Z
DTEND:20260407T150000Z
X-MICROSOFT-CDO-ALLDAYEVENT:FALSE
SUMMARY:Managing Yourself
DESCRIPTION:Customized for your front-line leaders our three-hour workshops are designed to provide essential skills for success. Presented in easily digestible segments\, these workshops concentrate on crucial abilities that deliver significant results without interrupting your team's daily workflow. This workshop focuses on the core leadership skills needed to excel in today's fast-paced environment.
X-ALT-DESC;FMTTYPE=text/html:Customized for your front-line leaders our three-hour workshops are designed to provide essential skills for success. Presented in easily digestible segments\, these workshops concentrate on crucial abilities that deliver significant results without interrupting your team&rsquo\;s daily workflow. This workshop focuses on the core leadership skills needed to excel in today&#39\;s fast-paced environment.
LOCATION:Georgia Highlands College 5441 Hwy 20 Cartersville\, GA 30121
UID:e.1202.173662
SEQUENCE:3
DTSTAMP:20260419T193056Z
URL:https://business.cartersvillechamber.com/events/details/managing-yourself-04-07-2026-173662
END:VEVENT

END:VCALENDAR
