BEGIN:VCALENDAR
VERSION:2.0
PRODID:-//ChamberMaster//Event Calendar 2.0//EN
METHOD:PUBLISH
X-PUBLISHED-TTL:P3D
REFRESH-INTERVAL:P3D
CALSCALE:GREGORIAN
BEGIN:VEVENT
DTSTART:20250506T120000Z
DTEND:20250506T150000Z
X-MICROSOFT-CDO-ALLDAYEVENT:FALSE
SUMMARY:Managing Yourself
DESCRIPTION:Identify critical priorities for success as a leader\n	Understand the impact your natural interaction style has on others and how their interaction styles impact you\n	Learn how to adjust your approach to fit team members' needs - and why this is important to your success\n	Distinguish between "urgent" and "important" demands on your attention and learn how to proactively manage competing demands to stay focused on achieving important goals
X-ALT-DESC;FMTTYPE=text/html:<ul>\n	<li>Identify critical priorities for success as a leader</li>\n	<li>Understand the impact your natural interaction style has on others and how their interaction styles impact you</li>\n	<li>Learn how to adjust your approach to fit team members&#39\; needs - and why this is important to your success</li>\n	<li>Distinguish between &quot\;urgent&quot\; and &quot\;important&quot\; demands on your attention and learn how to proactively manage competing demands to stay focused on achieving important goals</li>\n</ul>\n
LOCATION:GHC Cartersville Campus
UID:e.1202.167617
SEQUENCE:3
DTSTAMP:20260422T080116Z
URL:https://business.cartersvillechamber.com/events/details/managing-yourself-167617
END:VEVENT

END:VCALENDAR
