BEGIN:VCALENDAR
VERSION:2.0
PRODID:-//ChamberMaster//Event Calendar 2.0//EN
METHOD:PUBLISH
X-PUBLISHED-TTL:P3D
REFRESH-INTERVAL:P3D
CALSCALE:GREGORIAN
BEGIN:VEVENT
DTSTART:20240820T170000Z
DTEND:20240820T180000Z
X-MICROSOFT-CDO-ALLDAYEVENT:FALSE
SUMMARY:"Marketing on a Budget" Workshop
DESCRIPTION:"Marketing on a Budget" Workshop\n\n\n\nTuesday\, August 20\, 2024\, 1 PM - 2 PM\n\nFee: Free\n\n\n\nYou don't have to empty your pockets to market your business successfully. Join small business experts Brian Moran and Jocelyn Ring for an exclusive webinar on mastering Marketing on a Budget. Learn cost-effective strategies to maximize your marketing impact and efficiently grow your brand.\n\n\n\nThis webinar will provide practical tips and actionable insights for optimizing your marketing plans. Jocelyn and Brian will share proven methods that you can implement immediately to see results. Take advantage of this opportunity to enhance your marketing efforts without overspending.\n\n\n\nLearning Objectives:\n\n	Discover the essential principles of cost-effective marketing.\n	Develop a clear and compelling marketing message\n	Make effective use of social media and digital platforms\n	Measure and analyze marketing performance on a budget\n\n\n\nRegister Online
X-ALT-DESC;FMTTYPE=text/html:<strong>&quot\;Marketing on a Budget</strong><strong>&quot\; Workshop<br />\n<br />\nTuesday\, August 20\, 2024\, 1 PM - 2 PM<br />\nFee: Free</strong><br />\n<br />\nYou don&rsquo\;t have to empty your pockets to market your business successfully. Join small business experts Brian Moran and Jocelyn Ring for an exclusive webinar on mastering Marketing on a Budget. Learn cost-effective strategies to maximize your marketing impact and efficiently grow your brand.<br />\n<br />\nThis webinar will provide practical tips and actionable insights for optimizing your marketing plans. Jocelyn and Brian will share proven methods that you can implement immediately to see results. Take advantage of this opportunity to enhance your marketing efforts without overspending.<br />\n<br />\nLearning Objectives:\n<ul>\n	<li>Discover the essential principles of cost-effective marketing.</li>\n	<li>Develop a clear and compelling marketing message</li>\n	<li>Make effective use of social media and digital platforms</li>\n	<li>Measure and analyze marketing performance on a budget</li>\n</ul>\n<br />\n<a href="https://www.score.org/event/marketing-a-budget-boost-your-brand-without-breaking-bank" target="_blank"><strong>Register Online</strong></a>
LOCATION:Online Workshop
UID:e.1202.166184
SEQUENCE:3
DTSTAMP:20260422T201844Z
URL:https://business.cartersvillechamber.com/events/details/marketing-on-a-budget-workshop-166184
END:VEVENT

END:VCALENDAR
