BEGIN:VCALENDAR
VERSION:2.0
PRODID:-//ChamberMaster//Event Calendar 2.0//EN
METHOD:PUBLISH
X-PUBLISHED-TTL:P3D
REFRESH-INTERVAL:P3D
CALSCALE:GREGORIAN
BEGIN:VEVENT
DTSTART:20241024T140000Z
DTEND:20241024T160000Z
X-MICROSOFT-CDO-ALLDAYEVENT:FALSE
SUMMARY:"Mastering Shopify for Small Business Owners" Workshop
DESCRIPTION:"Mastering Shopify for Small Business Owners" Workshop\n\n\n\nThursday\, October 24\, 2024\, 1 PM - 2 PM\n\nFee: Free\n\n\n\nStarting an e-commerce business can feel overwhelming. From picking the right platform to getting people to visit your site\, creating an online store isn't easy. However\, there are tools available to help streamline the process\, and one of those tools is Shopify.\n\n\n\nIn this webinar\, our expert presenter will walk you through the fundamental steps to properly set up your Shopify store and show you how to leverage this platform to boost your business without breaking the bank.\n\n\n\nKey Learning Objectives:\n\n	How to set up your Shopify store\n	Explore the tools available in Shopify\n	Discover cost-Effective Marketing tactics to Drive Traffic\n\n\n\nRegister Online
X-ALT-DESC;FMTTYPE=text/html:<strong>&quot\;Mastering Shopify for Small Business Owners&quot\; Workshop<br />\n<br />\nThursday\, October 24\, 2024\, 1 PM - 2 PM<br />\nFee: Free</strong><br />\n<br />\nStarting an e-commerce business can feel overwhelming. From picking the right platform to getting people to visit your site\, creating an online store isn&#39\;t easy. However\, there are tools available to help streamline the process\, and one of those tools is Shopify.<br />\n<br />\nIn this webinar\, our expert presenter will walk you through the fundamental steps to properly set up your Shopify store and show you how to leverage this platform to boost your business without breaking the bank.<br />\n<br />\nKey Learning Objectives:\n<ul>\n	<li>How to set up your Shopify store</li>\n	<li>Explore the tools available in Shopify</li>\n	<li>Discover cost-Effective Marketing tactics to Drive Traffic</li>\n</ul>\n<br />\n<a href="https://www.score.org/event/mastering-shopify-small-business-owners" target="_blank"><strong>Register Online</strong></a>
LOCATION:Online Workshop
UID:e.1202.166977
SEQUENCE:3
DTSTAMP:20260422T172218Z
URL:https://business.cartersvillechamber.com/events/details/mastering-shopify-for-small-business-owners-workshop-166977
END:VEVENT

END:VCALENDAR
