BEGIN:VCALENDAR
VERSION:2.0
PRODID:-//ChamberMaster//Event Calendar 2.0//EN
METHOD:PUBLISH
X-PUBLISHED-TTL:P3D
REFRESH-INTERVAL:P3D
CALSCALE:GREGORIAN
BEGIN:VEVENT
DTSTART:20250415T170000Z
DTEND:20250415T180000Z
X-MICROSOFT-CDO-ALLDAYEVENT:FALSE
SUMMARY:"Mastering Small Business Financial Management" Workshop
DESCRIPTION:"Mastering Small Business Financial Management" Workshop\n\n\n\nTuesday\, April 15\, 2025\, 1 PM - 2 PM\n\nFee: Free\n\n\n\nEffective financial management is the backbone of every successful small business\, encompassing essential practices like strategic bookkeeping\, accurate projections\, and understanding financial statements. This comprehensive webinar is designed specifically for small business owners and entrepreneurs who want to strengthen their financial foundation and make data-driven decisions that drive sustainable growth.\n\n\n\nDiscover how quality financial management can transform your business operations by providing clear visibility into your profitability\, identifying your most valuable products and services\, and helping you navigate both expansion opportunities and challenging economic conditions with confidence.\n\n\n\nHere's what you'll learn:\n\n	The benefits of systematic money management for small business sustainability and growth\n	How strategic budgeting can provide valuable insights and prevent cash flow problems\n	Practical approaches to implementing timely and accurate bookkeeping systems\n	Essential financial statements every business owner should understand\n	Key requirements for successfully securing business financing\n\n\n\nLive attendees will receive the slide deck and a link to this webinar recording.\n\n\n\nRegister Online
X-ALT-DESC;FMTTYPE=text/html:<strong>&quot\;Mastering Small Business Financial Management</strong><strong>&quot\; Workshop<br />\n<br />\nTuesday\, April 15\, 2025\, 1 PM - 2 PM<br />\nFee: Free</strong><br />\n<br />\nEffective financial management is the backbone of every successful small business\, encompassing essential practices like strategic bookkeeping\, accurate projections\, and understanding financial statements. This comprehensive webinar is designed specifically for small business owners and entrepreneurs who want to strengthen their financial foundation and make data-driven decisions that drive sustainable growth.<br />\n<br />\nDiscover how quality financial management can transform your business operations by providing clear visibility into your profitability\, identifying your most valuable products and services\, and helping you navigate both expansion opportunities and challenging economic conditions with confidence.<br />\n<br />\nHere&rsquo\;s what you&rsquo\;ll learn:\n<ul>\n	<li>The benefits of systematic money management for small business sustainability and growth</li>\n	<li>How strategic budgeting can provide valuable insights and prevent cash flow problems</li>\n	<li>Practical approaches to implementing timely and accurate bookkeeping systems</li>\n	<li>Essential financial statements every business owner should understand</li>\n	<li>Key requirements for successfully securing business financing</li>\n</ul>\n<br />\n<em><strong>Live attendees will receive the slide deck and a link to this webinar recording.</strong></em><br />\n<br />\n<a href="https://www.score.org/event/mastering-small-business-financial-management-keys-growth-and-profitability" target="_blank"><strong>Register Online</strong></a>
LOCATION:Online Workshop
UID:e.1202.170141
SEQUENCE:3
DTSTAMP:20260422T091724Z
URL:https://business.cartersvillechamber.com/events/details/mastering-small-business-financial-management-workshop-170141
END:VEVENT

END:VCALENDAR
