BEGIN:VCALENDAR
VERSION:2.0
PRODID:-//ChamberMaster//Event Calendar 2.0//EN
METHOD:PUBLISH
X-PUBLISHED-TTL:P3D
REFRESH-INTERVAL:P3D
CALSCALE:GREGORIAN
BEGIN:VEVENT
DTSTART:20250328T230000Z
DTEND:20250329T010000Z
X-MICROSOFT-CDO-ALLDAYEVENT:FALSE
SUMMARY:Matilda the Musical
DESCRIPTION:Woodland High School's Fine Arts Department presents Ronald Dahl's MATILDA the musical\n\nMarch 28th @ 7pm\n\nMarch 29th @ 2:30 pm and 7 pm\n\n$10 adults\, $8 students
X-ALT-DESC;FMTTYPE=text/html:Woodland High School&rsquo\;s Fine Arts Department presents Ronald Dahl&rsquo\;s MATILDA the musical<br />\nMarch 28th @ 7pm<br />\nMarch 29th @ 2:30 pm and 7 pm<br />\n$10 adults\, $8 students
LOCATION:Woodland High School performing arts center
UID:e.1202.170121
SEQUENCE:3
DTSTAMP:20260422T103011Z
URL:https://business.cartersvillechamber.com/events/details/matilda-the-musical-170121
END:VEVENT

END:VCALENDAR
