BEGIN:VCALENDAR
VERSION:2.0
PRODID:-//ChamberMaster//Event Calendar 2.0//EN
METHOD:PUBLISH
X-PUBLISHED-TTL:P3D
REFRESH-INTERVAL:P3D
CALSCALE:GREGORIAN
BEGIN:VEVENT
DTSTART:20260503T160000Z
DTEND:20260503T210000Z
X-MICROSOFT-CDO-ALLDAYEVENT:FALSE
SUMMARY:May Market at Rose Lawn 2026
DESCRIPTION:May Market at Rose Lawn\n\n\n\nMay 2\, 2026\, 10 AM - 6 PM\n\nMay 3\, 2026\, Noon - 5 PM\n\n\n\nLocation:\n\nOn the grounds of Rose Lawn Museum\n\n224 West Cherokee Avenue\n\nCartersville\, GA 30120\n\n\n\nMay Market at Rose Lawn began in 2014 as a new springtime tradition in Cartersville\, Georgia. The two-day festival features handmade arts & crafts\, and the best food and garden products in the South. The event highlights the 200+ varieties of roses in full bloom. Guests may learn about the roses from Master Gardeners of Bartow and Cobb Counties. Plant sales\, farm to table food and more will be enjoyed. Be sure to take a tour of Rose Lawn House Museum to discover the love and legacy of Sam and Laura Jones.\n\n\n\nAdmission is free and the show is open Saturday\, May 2nd\, 10:00 a.m.-6:00 p.m.\; Sunday\, May 3rd\, Noon- 5:00 p.m.\n\n\n\nLearn more.
X-ALT-DESC;FMTTYPE=text/html:<strong><span style="font-size:18px\;">May Market at Rose Lawn</span><br />\n<br />\n<span style="font-size:14px\;">May 2\, 2026\, 10 AM - 6 PM<br />\nMay 3\, 2026\, Noon - 5 PM</span><br />\n<br />\nLocation:</strong><br />\nOn the grounds of Rose Lawn Museum<br />\n224 West Cherokee Avenue<br />\nCartersville\, GA 30120<br />\n<br />\nMay Market at Rose Lawn began in 2014 as a new springtime tradition in Cartersville\, Georgia. The two-day festival features handmade arts &amp\; crafts\, and the best food and garden products in the South. The event highlights the 200+ varieties of roses in full bloom. Guests may learn about the roses from Master Gardeners of Bartow and Cobb Counties. Plant sales\, farm to table food and more will be enjoyed. Be sure to take a tour of Rose Lawn House Museum to discover the love and legacy of Sam and Laura Jones.<br />\n<br />\nAdmission is free and the show is open Saturday\, May 2nd\, 10:00 a.m.-6:00 p.m.\; Sunday\, May 3rd\, Noon- 5:00 p.m.<br />\n<br />\n<a href="https://www.roselawnmuseum.com/events/may_market.php" target="_blank">Learn more</a>.<br />\n&nbsp\;
LOCATION:On the grounds of Rose Lawn Museum 224 West Cherokee Avenue Cartersville\, GA 30120
UID:e.1202.174039
SEQUENCE:3
DTSTAMP:20260421T083727Z
URL:https://business.cartersvillechamber.com/events/details/may-market-at-rose-lawn-2026-05-03-2026-174039
END:VEVENT

END:VCALENDAR
