BEGIN:VCALENDAR
VERSION:2.0
PRODID:-//ChamberMaster//Event Calendar 2.0//EN
METHOD:PUBLISH
X-PUBLISHED-TTL:P3D
REFRESH-INTERVAL:P3D
CALSCALE:GREGORIAN
BEGIN:VEVENT
DTSTART:20240504T140000Z
DTEND:20240504T200000Z
X-MICROSOFT-CDO-ALLDAYEVENT:FALSE
SUMMARY:May the Fourth Be With You!
DESCRIPTION:Calling all Star Wars enthusiasts! Join us as we celebrate "May the Fourth" at the Cartersville Library. We will have the original trilogy playing in the meeting room from 10-4pm with Star Wars Trivia games throughout the day and Star Wars themed prizes for the winners. You can also join in on the Star Wars themed video games and crafts in the children's department. Special guests will be dropping in throughout the day.
X-ALT-DESC;FMTTYPE=text/html:<span style="color:#000000">Calling all Star Wars enthusiasts! Join us as we celebrate &ldquo\;May the Fourth&rdquo\; at the Cartersville Library. We will have the original trilogy playing in the meeting room from 10-4pm with Star Wars Trivia games throughout the day and Star Wars themed prizes for the winners. You can also join in on the Star Wars themed video games and crafts in the children&rsquo\;s department. Special guests will be dropping in throughout the day.</span>
LOCATION:429 West Main St Cartersville\, GA 30120 770-382-4203
UID:e.1202.164343
SEQUENCE:3
DTSTAMP:20260423T004050Z
URL:https://business.cartersvillechamber.com/events/details/may-the-fourth-be-with-you-164343
END:VEVENT

END:VCALENDAR
