BEGIN:VCALENDAR
VERSION:2.0
PRODID:-//ChamberMaster//Event Calendar 2.0//EN
METHOD:PUBLISH
X-PUBLISHED-TTL:P3D
REFRESH-INTERVAL:P3D
CALSCALE:GREGORIAN
BEGIN:VEVENT
DTSTART:20250415T160000Z
DTEND:20250415T160000Z
X-MICROSOFT-CDO-ALLDAYEVENT:FALSE
SUMMARY:Medical Billing and Coding Specialist (Through 9/4/25)
DESCRIPTION:Medical billing and coding specialists play a vital role in today's healthcare industry. Whether employed by a private practice\, hospital\, clinic\, surgery center\, or other setting\, medical billers and coders use codes to document patient diagnoses and treatments. Their duties include reading and analyzing patient records\, determining correct codes for patient records\, using codes to bill insurance providers\, keeping track of patient data\, managing detailed\, specifically coded information\, and HIPAA compliance. This fully online program is taught by a live-instructor\, in real-time\, in a virtual classroom using Zoom technology. Class time is engaging\, and students are encouraged to interact with their instructor and fellow students. Topics covered include medical terminology\, anatomy and physiology\, medical billing functions\, insurance guidelines and compliance training\, legal and ethical issues\, and basic diagnostic and procedural coding. National certification exam through the National Healthcareer Association and exam preparation materials are included with the program. It is also recommended that students sit for Certified Professional Coder (CPC) exam offered through AAPC.
X-ALT-DESC;FMTTYPE=text/html:Medical billing and coding specialists play a vital role in today&rsquo\;s healthcare industry. Whether employed by a private practice\, hospital\, clinic\, surgery center\, or other setting\, medical billers and coders use codes to document patient diagnoses and treatments. Their duties include reading and analyzing patient records\, determining correct codes for patient records\, using codes to bill insurance providers\, keeping track of patient data\, managing detailed\, specifically coded information\, and HIPAA compliance. This fully online program is taught by a live-instructor\, in real-time\, in a virtual classroom using Zoom technology. Class time is engaging\, and students are encouraged to interact with their instructor and fellow students. Topics covered include medical terminology\, anatomy and physiology\, medical billing functions\, insurance guidelines and compliance training\, legal and ethical issues\, and basic diagnostic and procedural coding. National certification exam through the National Healthcareer Association and exam preparation materials are included with the program. It is also recommended that students sit for Certified Professional Coder (CPC) exam offered through AAPC.
LOCATION:Georgia Highlands College
UID:e.1202.167630
SEQUENCE:3
DTSTAMP:20260422T103114Z
URL:https://business.cartersvillechamber.com/events/details/medical-billing-and-coding-specialist-through-9-4-25-167630
END:VEVENT

END:VCALENDAR
