BEGIN:VCALENDAR
VERSION:2.0
PRODID:-//ChamberMaster//Event Calendar 2.0//EN
METHOD:PUBLISH
X-PUBLISHED-TTL:P3D
REFRESH-INTERVAL:P3D
CALSCALE:GREGORIAN
BEGIN:VEVENT
DTSTART:20251109T200000Z
DTEND:20251109T210000Z
X-MICROSOFT-CDO-ALLDAYEVENT:FALSE
SUMMARY:Meditation at the Park
DESCRIPTION:Join us for a meditation session led by the monks of the Atlanta Meditation Center\, designed to help clear our minds for the holiday season. This free event will take place at the historical cabin behind the Visitor Center. Take advantage of this wonderful opportunity! This event is free to the public\, but a $5.00 parking fee is required.
X-ALT-DESC;FMTTYPE=text/html:Join us for a meditation session led by the monks of the Atlanta Meditation Center\, designed to help clear our minds for the holiday season. This free event will take place at the historical cabin behind the Visitor Center. Take advantage of this wonderful opportunity! This event is free to the public\, but a $5.00 parking fee is required.
LOCATION:Red Top Mountain State Park 50 Lodge Rd Acworth\, GA 30102
UID:e.1202.172041
SEQUENCE:3
DTSTAMP:20260421T231251Z
URL:https://business.cartersvillechamber.com/events/details/meditation-at-the-park-172041
END:VEVENT

END:VCALENDAR
