BEGIN:VCALENDAR
VERSION:2.0
PRODID:-//ChamberMaster//Event Calendar 2.0//EN
METHOD:PUBLISH
X-PUBLISHED-TTL:P3D
REFRESH-INTERVAL:P3D
CALSCALE:GREGORIAN
BEGIN:VEVENT
DTSTART:20240713T000000Z
DTEND:20240713T020000Z
X-MICROSOFT-CDO-ALLDAYEVENT:FALSE
SUMMARY:Meet the Builder At: Bartow County Championship Rodeo
DESCRIPTION:Meet the Builder At:\n\nBartow County Championship Rodeo\n\n\n\nJuly 12th and 13th\, 8 PM\n\nBartow County Saddle Club\n\n\n\nStop by the America's Home Place booth at the Bartow County Championship Rodeo and learn more about your custom home building options on your land.\n\n\n\nGet the chance to interact with our team of experts and have your questions answered.\n\n\n\nThis is a great opportunity to get to know us and see why we are the right choice for your custom home building needs.\n\n\n\nBe sure to ask about our special offer for Rodeo attendees!\n\n\n\nCalhoun Building Center\n\n(706) 627-8011\n\nAmericasHomePlace.com\n\n\n\nView the Event Flyer
X-ALT-DESC;FMTTYPE=text/html:Meet the Builder At:<br />\nBartow County Championship Rodeo<br />\n<br />\nJuly 12th and 13th\, 8 PM<br />\nBartow County Saddle Club<br />\n<br />\nStop by the America&#39\;s Home Place booth at the Bartow County Championship Rodeo and learn more about your custom home building options on your land.<br />\n<br />\nGet the chance to interact with our team of experts and have your questions answered.<br />\n<br />\nThis is a great opportunity to get to know us and see why we are the right choice for your custom home building needs.<br />\n<br />\nBe sure to ask about our special offer for Rodeo attendees!<br />\n<br />\nCalhoun Building Center<br />\n(706) 627-8011<br />\nAmericasHomePlace.com<br />\n<br />\n<a href="https://chambermaster.blob.core.windows.net/userfiles/UserFiles/chambers/1202/File/Event_Docs/AHPRodeo2024.pdf" target="_blank">View the Event Flyer</a>
LOCATION:Bartow County Saddle Club 43 Saddle Club Drive Cartersville\, GA 30120
UID:e.1202.165984
SEQUENCE:3
DTSTAMP:20260422T214514Z
URL:https://business.cartersvillechamber.com/events/details/meet-the-builder-at-bartow-county-championship-rodeo-165984
END:VEVENT

END:VCALENDAR
