BEGIN:VCALENDAR
VERSION:2.0
PRODID:-//ChamberMaster//Event Calendar 2.0//EN
METHOD:PUBLISH
X-PUBLISHED-TTL:P3D
REFRESH-INTERVAL:P3D
CALSCALE:GREGORIAN
BEGIN:VEVENT
DTSTART:20240427T150000Z
DTEND:20240427T180000Z
X-MICROSOFT-CDO-ALLDAYEVENT:FALSE
SUMMARY:Meet the Lender
DESCRIPTION:Meet the Lender\n\n\n\nSaturday\, April 27\, 2024\, 11 AM - 2 PM\n\nCalhoun Building Center\n\n309 Belwood Road\, Calhoun\, GA 30701\n\n\n\nJoin us for this Meet The Lender event! Have a chance to meet our preferred lender from Stockton Mortgage who will guide you through all the financing option for building your new custom home.\n\n\n\nOur experienced sales team will be on site to answer your custom home building questions. Now is the time to build!\n\n\n\n(706) 629-8011 | AmericasHomePlace.com
X-ALT-DESC;FMTTYPE=text/html:Meet the Lender<br />\n<br />\nSaturday\, April 27\, 2024\, 11 AM - 2 PM<br />\nCalhoun Building Center<br />\n309 Belwood Road\, Calhoun\, GA 30701<br />\n<br />\nJoin us for this Meet The Lender event! Have a chance to meet our preferred lender from Stockton Mortgage who will guide you through all the financing option for building your new custom home.<br />\n<br />\nOur experienced sales team will be on site to answer your custom home building questions. Now is the time to build!<br />\n<br />\n(706) 629-8011 | <a href="https://americashomeplace.com/" target="_blank">AmericasHomePlace.com</a>
LOCATION:Calhoun Building Center 309 Belwood Road Calhoun\, GA 30701
UID:e.1202.164365
SEQUENCE:3
DTSTAMP:20260423T021207Z
URL:https://business.cartersvillechamber.com/events/details/meet-the-lender-164365
END:VEVENT

END:VCALENDAR
