BEGIN:VCALENDAR
VERSION:2.0
PRODID:-//ChamberMaster//Event Calendar 2.0//EN
METHOD:PUBLISH
X-PUBLISHED-TTL:P3D
REFRESH-INTERVAL:P3D
CALSCALE:GREGORIAN
BEGIN:VEVENT
DTSTART:20250709T120000Z
DTEND:20250709T130000Z
X-MICROSOFT-CDO-ALLDAYEVENT:FALSE
SUMMARY:Membership 101 Class
DESCRIPTION:New in 2025\, the Cartersville-Bartow County Chamber of Commerce is offering a Membership 101 Class\, available and free of charge to anyone who wants to learn more about how to navigate\, leverage and maximize Chamber benefits.\n\n \nWho Should Attend?\n\n\n	Business owners / decision makers who need a refresher on member benefits\n	Chamber member employees responsible for marketing / business development\n	Prospective members interested in learning more about Chamber benefits\n	Anyone interested in learning more about our Chamber services
X-ALT-DESC;FMTTYPE=text/html:<span style="color: rgb(109\, 110\, 112)\; font-family: Arial\, Helvetica\, sans-serif\; font-size: 14px\;">New in 2025\, the Cartersville-Bartow County Chamber of Commerce is offering a Membership 101 Class\, available and free of charge to anyone who wants to learn more about how to navigate\, leverage and maximize Chamber benefits.</span><br />\n&nbsp\;\n<p class="x_MsoNormal" data-olk-copy-source="MessageBody" style="margin: 0in\; font-size: 12pt\; font-family: Aptos\, sans-serif\; color: rgb(36\, 36\, 36)\;"><span style="font-size: 14px\;">Who Should Attend?</span></p>\n\n<ul style="margin-bottom: 0in\; color: rgb(36\, 36\, 36)\; font-family: &quot\;Segoe UI&quot\;\, &quot\;Segoe UI Web (West European)&quot\;\, -apple-system\, BlinkMacSystemFont\, Roboto\, &quot\;Helvetica Neue&quot\;\, sans-serif\; font-size: 15px\; margin-top: 0in\;" type="disc">\n	<li class="x_MsoListParagraph" style="margin: 0in\; font-size: 12pt\; font-family: Aptos\, sans-serif\;"><span style="font-size: 14px\;"><b>Business owners / decision makers&nbsp\;</b>who need a refresher on member benefits</span></li>\n	<li class="x_MsoListParagraph" style="margin: 0in\; font-size: 12pt\; font-family: Aptos\, sans-serif\;"><span style="font-size: 14px\;"><b>Chamber member employees</b>&nbsp\;responsible for marketing / business development</span></li>\n	<li class="x_MsoListParagraph" style="margin: 0in\; font-size: 12pt\; font-family: Aptos\, sans-serif\;"><span style="font-size: 14px\;"><b>Prospective members</b>&nbsp\;interested in learning more about Chamber benefits</span></li>\n	<li class="x_MsoListParagraph" style="margin: 0in\; font-size: 12pt\; font-family: Aptos\, sans-serif\;"><span style="font-size: 14px\;">Anyone interested in learning more about our Chamber services</span></li>\n</ul>\n
LOCATION:Anheuser-Busch Community Room The Cartersville-Bartow County Chamber of Commerce 122 W. Main Street Cartersville\, GA 30120
UID:e.1202.167604
SEQUENCE:3
DTSTAMP:20260422T045911Z
URL:https://business.cartersvillechamber.com/events/details/membership-101-class-167604
END:VEVENT

END:VCALENDAR
