BEGIN:VCALENDAR
VERSION:2.0
PRODID:-//ChamberMaster//Event Calendar 2.0//EN
METHOD:PUBLISH
X-PUBLISHED-TTL:P3D
REFRESH-INTERVAL:P3D
CALSCALE:GREGORIAN
BEGIN:VEVENT
DTSTART:20250416T120000Z
DTEND:20250416T130000Z
X-MICROSOFT-CDO-ALLDAYEVENT:FALSE
SUMMARY:Membership 101 Class
DESCRIPTION:New in 2025\, the Cartersville-Bartow County Chamber of Commerce is offering a Membership 101 Class\, available and free of charge to all Chamber Members and non-Chamber Members who want to learn more about how to navigate\, leverage and maximize Chamber benefits.\n\n\n\nWho Should Attend?\n\n	Business owners / decision makers who need a refresher on member benefits\n	Chamber member employees responsible for marketing / business development\n	Prospective members interested in learning more about chamber benefits\n	Anyone interested in learning more about our Chamber services
X-ALT-DESC;FMTTYPE=text/html:New in 2025\, the Cartersville-Bartow County Chamber of Commerce is offering a Membership 101 Class\, available and free of charge to all Chamber Members and non-Chamber Members who want to learn more about how to navigate\, leverage and maximize Chamber benefits.<br />\n<br />\nWho Should Attend?\n<ul>\n	<li><strong>Business owners / decision makers</strong> who need a refresher on member benefits</li>\n	<li><strong>Chamber member employees</strong> responsible for marketing / business development</li>\n	<li><strong>Prospective members</strong> interested in learning more about chamber benefits</li>\n	<li>Anyone interested in learning more about our Chamber services</li>\n</ul>\n
LOCATION:Anheuser-Busch Community Room Cartersville-Bartow County Chamber of Commerce 122 W. Main Street Cartersville\, GA 30120
UID:e.1202.168730
SEQUENCE:3
DTSTAMP:20260422T091132Z
URL:https://business.cartersvillechamber.com/events/details/membership-101-class-168730
END:VEVENT

END:VCALENDAR
