BEGIN:VCALENDAR
VERSION:2.0
PRODID:-//ChamberMaster//Event Calendar 2.0//EN
METHOD:PUBLISH
X-PUBLISHED-TTL:P3D
REFRESH-INTERVAL:P3D
CALSCALE:GREGORIAN
BEGIN:VEVENT
DTSTART:20260415T120000Z
DTEND:20260415T133000Z
X-MICROSOFT-CDO-ALLDAYEVENT:FALSE
SUMMARY:Membership 101 Class
DESCRIPTION:The Cartersville-Bartow County Chamber of Commerce Membership 101 Class is available and free of charge to anyone interested in learning more about how to navigate\, leverage and maximize their Chamber benefits.\n\n\n\nWho Should Attend?\n\n	Business owners / decision makers who need a refresher on member benefits\n	Chamber member employees responsible for marketing / business development\n	Prospective members interested in learning more about chamber benefits\n	Anyone interested in learning more about our Chamber services\n\nWhat will be covered?\n\n\n	Introduction to the Chamber staff\, board and ambassadors\n	The Chamber's structure and 2026 strategic plan\n	Membership benefits\n	Roundtable deep dives (small group discussion and education on various benefits)\n	Optional networking opportunity
X-ALT-DESC;FMTTYPE=text/html:The Cartersville-Bartow County Chamber of Commerce Membership 101 Class is available and free of charge to anyone interested in learning more about how to navigate\, leverage and maximize their Chamber benefits.<br />\n<br />\nWho Should Attend?\n<ul>\n	<li><strong>Business owners / decision makers</strong> who need a refresher on member benefits</li>\n	<li><strong>Chamber member employees</strong> responsible for marketing / business development</li>\n	<li><strong>Prospective members</strong> interested in learning more about chamber benefits</li>\n	<li>Anyone interested in learning more about our Chamber services</li>\n</ul>\nWhat will be covered?\n\n<ul>\n	<li>Introduction to the Chamber staff\, board and ambassadors</li>\n	<li>The Chamber&#39\;s structure and 2026 strategic plan</li>\n	<li>Membership benefits</li>\n	<li>Roundtable deep dives (small group discussion and education on various benefits)</li>\n	<li>Optional networking opportunity</li>\n</ul>\n
LOCATION:Anheuser-Busch Community Room The Cartersville-Bartow County Chamber of Commerce 122 W. Main Street Cartersville\, GA 30120
UID:e.1202.172101
SEQUENCE:3
DTSTAMP:20260419T192711Z
URL:https://business.cartersvillechamber.com/events/details/membership-101-class-172101
END:VEVENT

END:VCALENDAR
