BEGIN:VCALENDAR
VERSION:2.0
PRODID:-//ChamberMaster//Event Calendar 2.0//EN
METHOD:PUBLISH
X-PUBLISHED-TTL:P3D
REFRESH-INTERVAL:P3D
CALSCALE:GREGORIAN
BEGIN:VEVENT
DTSTART:20260210T140000Z
DTEND:20260210T180000Z
X-MICROSOFT-CDO-ALLDAYEVENT:FALSE
SUMMARY:Microsoft Excel: Functions
DESCRIPTION:Microsoft Excel: Functions
X-ALT-DESC;FMTTYPE=text/html:Microsoft Excel: Functions
LOCATION:GHC Cartersville Campus
UID:e.1202.171858
SEQUENCE:3
DTSTAMP:20260421T184509Z
URL:https://business.cartersvillechamber.com/events/details/microsoft-excel-functions-02-10-2026-171858
END:VEVENT

END:VCALENDAR
