BEGIN:VCALENDAR
VERSION:2.0
PRODID:-//ChamberMaster//Event Calendar 2.0//EN
METHOD:PUBLISH
X-PUBLISHED-TTL:P3D
REFRESH-INTERVAL:P3D
CALSCALE:GREGORIAN
BEGIN:VEVENT
DTSTART:20251209T140000Z
DTEND:20251209T180000Z
X-MICROSOFT-CDO-ALLDAYEVENT:FALSE
SUMMARY:Microsoft Excel: Pivot Tables
DESCRIPTION:Microsoft Excel: Pivot Tables
X-ALT-DESC;FMTTYPE=text/html:Microsoft Excel: Pivot Tables
LOCATION:GHC Cartersville Campus
UID:e.1202.171869
SEQUENCE:3
DTSTAMP:20260421T214238Z
URL:https://business.cartersvillechamber.com/events/details/microsoft-excel-pivot-tables-171869
END:VEVENT

END:VCALENDAR
