BEGIN:VCALENDAR
VERSION:2.0
PRODID:-//ChamberMaster//Event Calendar 2.0//EN
METHOD:PUBLISH
X-PUBLISHED-TTL:P3D
REFRESH-INTERVAL:P3D
CALSCALE:GREGORIAN
BEGIN:VEVENT
DTSTART:20240509T130000Z
DTEND:20240509T200000Z
X-MICROSOFT-CDO-ALLDAYEVENT:FALSE
SUMMARY:Microsoft Excel Pivot Tables & Charts
DESCRIPTION:Discover how to convert data rows and columns into an Excel table throughout this course. The table features encompass a wide range of functionalities\, such as sorting and filtering\, formatting data\, and managing table rows and columns. Discover the strength of Pivot Tables  "an efficient tool for summarizing large datasets. Easily adjust your analysis by manipulating data directly within the table. Easily group\, sort\, and filter data\, conduct calculations\, and add or remove subtotals and grand totals\, providing a comprehensive understanding of your data with ease.
X-ALT-DESC;FMTTYPE=text/html:Discover how to convert data rows and columns into an Excel table throughout this course. The table features encompass a wide range of functionalities\, such as sorting and filtering\, formatting data\, and managing table rows and columns. Discover the strength of Pivot Tables&acirc\;&euro\;&rdquo\;an efficient tool for summarizing large datasets. Easily adjust your analysis by manipulating data directly within the table. Easily group\, sort\, and filter data\, conduct calculations\, and add or remove subtotals and grand totals\, providing a comprehensive understanding of your data with ease.
LOCATION:GHC Cartersville Campus
UID:e.1202.164391
SEQUENCE:3
DTSTAMP:20260423T004202Z
URL:https://business.cartersvillechamber.com/events/details/microsoft-excel-pivot-tables-charts-05-09-2024-164391
END:VEVENT

END:VCALENDAR
