BEGIN:VCALENDAR
VERSION:2.0
PRODID:-//ChamberMaster//Event Calendar 2.0//EN
METHOD:PUBLISH
X-PUBLISHED-TTL:P3D
REFRESH-INTERVAL:P3D
CALSCALE:GREGORIAN
BEGIN:VEVENT
DTSTART:20250329T143000Z
DTEND:20250329T160000Z
X-MICROSOFT-CDO-ALLDAYEVENT:FALSE
SUMMARY:Mindful Meditation Discussion and Practice
DESCRIPTION:We invite you to join us as we come together to explore mindful meditation. Classes are led by experienced mindfulness meditation leaders who volunteer their time\, and each bring their own style of sharing and unique perspective to the group. Open to all. No cost. No experience necessary.
X-ALT-DESC;FMTTYPE=text/html:<div>\n<div>We invite you to join us as we come together to explore mindful meditation. Classes are led by experienced mindfulness meditation leaders who volunteer their time\, and each bring their own style of sharing and unique perspective to the group. Open to all. No cost. No experience necessary.</div>\n</div>\n
LOCATION:Cartersville Public Library 429 West Main Street Cartersville\, GA 30120
UID:e.1202.169558
SEQUENCE:3
DTSTAMP:20260422T103319Z
URL:https://business.cartersvillechamber.com/events/details/mindful-meditation-discussion-and-practice-03-29-2025-169558
END:VEVENT

END:VCALENDAR
