BEGIN:VCALENDAR
VERSION:2.0
PRODID:-//ChamberMaster//Event Calendar 2.0//EN
METHOD:PUBLISH
X-PUBLISHED-TTL:P3D
REFRESH-INTERVAL:P3D
CALSCALE:GREGORIAN
BEGIN:VEVENT
DTSTART:20240716T170000Z
DTEND:20240716T180000Z
X-MICROSOFT-CDO-ALLDAYEVENT:FALSE
SUMMARY:"Mistakes to Avoid When Starting a Business" Online Workshop
DESCRIPTION:Mistakes to Avoid When Starting a Business\n\n\n\nTuesday\, July 16\, 2024\, 1:00 PM - 2:00 PM\n\nFee: Free\n\n\n\nStarting a business can be exciting\, but it's easy to make mistakes that can hinder your success. Join our upcoming webinar to learn how to avoid common pitfalls and gain valuable insights to help you navigate the difficulties of starting a business.\n\n\n\nIn this webinar\, you will learn how to avoid common mistakes and practical strategies for a successful startup. Whether you're just starting your business or looking to improve\, this session will provide you with valuable guidance to keep you on track. \n\n\n\nLearning Objectives:\n\n	Understand the importance of a comprehensive business plan and learn how to create a roadmap for success\n	Discover how to define and communicate a clear business vision to align your team's efforts\n	Learn strategies to prioritize tasks and maintain focus on core business activities\n	Find out how to cultivate disciplined practices to ensure consistent execution of your business strategies\n	Gain insights into effective marketing and sales techniques to drive growth and customer retention\n	Enhance your self-awareness to improve decision-making and leadership skills\n\n\n\nRegister Online
X-ALT-DESC;FMTTYPE=text/html:<strong>Mistakes to Avoid When Starting a Business</strong><br />\n<br />\n<strong>Tuesday\, July 16\, 2024\, 1:00 PM - 2:00 PM<br />\nFee: Free</strong><br />\n<br />\nStarting a business can be exciting\, but it&#39\;s easy to make mistakes that can hinder your success. Join our upcoming webinar to learn how to avoid common pitfalls and gain valuable insights to help you navigate the difficulties of starting a business.<br />\n<br />\nIn this webinar\, you will learn how to avoid common mistakes and practical strategies for a successful startup. Whether you&#39\;re just starting your business or looking to improve\, this session will provide you with valuable guidance to keep you on track.&nbsp\;<br />\n<br />\nLearning Objectives:\n<ul>\n	<li>Understand the importance of a comprehensive business plan and learn how to create a roadmap for success</li>\n	<li>Discover how to define and communicate a clear business vision to align your team&#39\;s efforts</li>\n	<li>Learn strategies to prioritize tasks and maintain focus on core business activities</li>\n	<li>Find out how to cultivate disciplined practices to ensure consistent execution of your business strategies</li>\n	<li>Gain insights into effective marketing and sales techniques to drive growth and customer retention</li>\n	<li>Enhance your self-awareness to improve decision-making and leadership skills</li>\n</ul>\n<br />\n<a href="https://www.score.org/event/mistakes-avoid-when-starting-a-business" target="_blank">Register Online</a>
LOCATION:Online Workshop
UID:e.1202.165917
SEQUENCE:3
DTSTAMP:20260422T214356Z
URL:https://business.cartersvillechamber.com/events/details/mistakes-to-avoid-when-starting-a-business-online-workshop-165917
END:VEVENT

END:VCALENDAR
