BEGIN:VCALENDAR
VERSION:2.0
PRODID:-//ChamberMaster//Event Calendar 2.0//EN
METHOD:PUBLISH
X-PUBLISHED-TTL:P3D
REFRESH-INTERVAL:P3D
CALSCALE:GREGORIAN
BEGIN:VEVENT
DTSTART:20250120T200000Z
DTEND:20250120T210000Z
X-MICROSOFT-CDO-ALLDAYEVENT:FALSE
SUMMARY:MLK Celebration Brotherhood Program
DESCRIPTION:Climax for the weekend of events for the King Holiday. Dr. C.L. Jordan\, Pastor of Iconium Baptist Church\, Atlanta\, Georgia and President of Carver Bible College will bring the closing message. Refreshments and Birthday cake honoring Dr. King's legacy will be provided.
X-ALT-DESC;FMTTYPE=text/html:Climax for the weekend of events for the King Holiday. Dr. C.L. Jordan\, Pastor of Iconium Baptist Church\, Atlanta\, Georgia and President of Carver Bible College will bring the closing message. Refreshments and Birthday cake honoring Dr. King&#39\;s legacy will be provided.
LOCATION:Cartersville Civic Center 435 West Main Street Cartersville\, Georgia 30120
UID:e.1202.168212
SEQUENCE:3
DTSTAMP:20260422T125923Z
URL:https://business.cartersvillechamber.com/events/details/mlk-celebration-brotherhood-program-168212
END:VEVENT

END:VCALENDAR
