BEGIN:VCALENDAR
VERSION:2.0
PRODID:-//ChamberMaster//Event Calendar 2.0//EN
METHOD:PUBLISH
X-PUBLISHED-TTL:P3D
REFRESH-INTERVAL:P3D
CALSCALE:GREGORIAN
BEGIN:VEVENT
DTSTART:20250120T150000Z
DTEND:20250120T170000Z
X-MICROSOFT-CDO-ALLDAYEVENT:FALSE
SUMMARY:MLK Celebration Youth Rally
DESCRIPTION:Any youth in the community or church youth groups may participate in songs\, skits\, poems\, reading\, dance\, or however they choose to remember and celebrate the Martin Luther King\, Jr. Holiday. This is mainly for youth participation.
X-ALT-DESC;FMTTYPE=text/html:Any youth in the community or church youth groups may participate in songs\, skits\, poems\, reading\, dance\, or however they choose to remember and celebrate the Martin Luther King\, Jr. Holiday. This is mainly for youth participation.
LOCATION:St. Luke AME Church 130 Jones Street Cartersville\, Georgia 30120
UID:e.1202.168210
SEQUENCE:3
DTSTAMP:20260422T130306Z
URL:https://business.cartersvillechamber.com/events/details/mlk-celebration-youth-rally-168210
END:VEVENT

END:VCALENDAR
