BEGIN:VCALENDAR
VERSION:2.0
PRODID:-//ChamberMaster//Event Calendar 2.0//EN
METHOD:PUBLISH
X-PUBLISHED-TTL:P3D
REFRESH-INTERVAL:P3D
CALSCALE:GREGORIAN
BEGIN:VEVENT
DTSTART:20230312T000000Z
DTEND:20230312T020000Z
X-MICROSOFT-CDO-ALLDAYEVENT:FALSE
SUMMARY:Movies at the Museum
DESCRIPTION:Movies at the Museum\n\n\n\nSaturday\, March 11\, at 7:00 PM\n\nSavoy Automobile Museum\n\n3 Savoy Lane\, Cartersville\, GA 30120\n\n\n\nPurchase Tickets Online\n\nTickets are complimentary for museum members\, and complimentary with museum admission for the general public.\n\n\n\nJoin us on March 11\, 2023\, at 7:00 pm in the Savoy Presentation Theatre where we will be showing the 1971 production "Diamonds Are Forever" with its PG rating. A diamond smuggling investigation leads James Bond to Las Vegas\, where he uncovers an evil plot involving a rich business tycoon.
X-ALT-DESC;FMTTYPE=text/html:<span style="font-size:18px\;"><strong>Movies at the Museum</strong></span><br />\n<br />\n<strong>Saturday\, March 11\, at 7:00 PM<br />\nSavoy Automobile Museum</strong><br />\n3 Savoy Lane\, Cartersville\, GA 30120<br />\n<br />\n<strong><a href="https://savoymuseum.org/event/movies-at-the-museum-diamonds-are-forever/" target="_blank">Purchase Tickets Online</a></strong><br />\n<em>Tickets are complimentary for museum members\, and complimentary with museum admission for the general public.</em><br />\n<br />\nJoin us on March 11\, 2023\, at 7:00 pm in the Savoy Presentation Theatre where we will be showing the 1971 production &ldquo\;Diamonds Are Forever&rdquo\; with its PG rating. A diamond smuggling investigation leads James Bond to Las Vegas\, where he uncovers an evil plot involving a rich business tycoon.
LOCATION:Savoy Automobile Museum 3 Savoy Lane Cartersville\, GA 30120
UID:e.1202.157286
SEQUENCE:3
DTSTAMP:20260423T203138Z
URL:https://business.cartersvillechamber.com/events/details/movies-at-the-museum-157286
END:VEVENT

END:VCALENDAR
