BEGIN:VCALENDAR
VERSION:2.0
PRODID:-//ChamberMaster//Event Calendar 2.0//EN
METHOD:PUBLISH
X-PUBLISHED-TTL:P3D
REFRESH-INTERVAL:P3D
CALSCALE:GREGORIAN
BEGIN:VEVENT
DTSTART:20260221T000000Z
DTEND:20260221T020000Z
X-MICROSOFT-CDO-ALLDAYEVENT:FALSE
SUMMARY:Movies at the Museum
DESCRIPTION:Movies at the Museum\n\n\n\nFriday\, February 20\, 2026 at 7:00 PM\n\nSavoy Automobile Museum\n\n3 Savoy Lane\, Cartersville\, GA 30120\n\n\n\n\n\nJoin us for a special showing of "Goldfinger" on February 20\, 2026\, at 7:00 pm in the Presentation Theatre.\n\n\n\nWhile investigating a gold magnate's smuggling\, James Bond uncovers a plot to contaminate the Fort Knox gold reserve. 1 hr 50 min | PG\n\n\n\nTickets\n\nMuseum Members   Complimentary\n\nGeneral Public   Included with admission to the museum.\n\n \n\nNote: Seating is available on a first-come first-served basis. Please plan accordingly. Also\, food and drink are not permitted in the Presentation Theatre. Thank you for your cooperation!
X-ALT-DESC;FMTTYPE=text/html:<span style="font-size:18px\;"><strong>Movies at the Museum</strong></span><br />\n<br />\n<strong>Friday\, February 20\, 2026 at 7:00 PM<br />\nSavoy Automobile Museum</strong><br />\n3 Savoy Lane\, Cartersville\, GA 30120\n<div>\n<div>\n<div>\n<div><br />\nJoin us for a special showing of &ldquo\;Goldfinger&rdquo\;&nbsp\;on February 20\, 2026\, at 7:00 pm in the Presentation Theatre.<br />\n<br />\nWhile investigating a gold magnate&rsquo\;s smuggling\, James Bond uncovers a plot to contaminate the Fort Knox gold reserve. 1 hr 50 min | PG</div>\n\n<div><br />\n<strong>Tickets</strong><br />\n<strong>Museum Members</strong> &ndash\; Complimentary<br />\n<strong>General Public</strong> &ndash\; Included with admission to the museum.<br />\n&nbsp\;<br />\n<em>Note: Seating is available on a first-come first-served basis. Please plan accordingly. Also\, food and drink are not permitted in the Presentation Theatre. Thank you for your cooperation!</em></div>\n\n<div>&nbsp\;</div>\n\n<div>&nbsp\;</div>\n</div>\n</div>\n</div>\n
LOCATION:Savoy Automobile Museum 3 Savoy Lane Cartersville\, GA 30120
UID:e.1202.173600
SEQUENCE:3
DTSTAMP:20260421T185906Z
URL:https://business.cartersvillechamber.com/events/details/movies-at-the-museum-173600
END:VEVENT

END:VCALENDAR
