BEGIN:VCALENDAR
VERSION:2.0
PRODID:-//ChamberMaster//Event Calendar 2.0//EN
METHOD:PUBLISH
X-PUBLISHED-TTL:P3D
REFRESH-INTERVAL:P3D
CALSCALE:GREGORIAN
BEGIN:VEVENT
DTSTART:20260320T230000Z
DTEND:20260321T010000Z
X-MICROSOFT-CDO-ALLDAYEVENT:FALSE
SUMMARY:Movies at the Museum
DESCRIPTION:Movies at the Museum\n\n\n\nFriday\, March 20\, 2026 at 7:00 PM\n\nSavoy Automobile Museum\n\n3 Savoy Lane\, Cartersville\, GA 30120\n\n\n\n\n\nThe Great Outdoors (1988)\n\n\n\nIt's vacation time for outdoorsy Chicago man Chet Ripley\, along with his wife\, Connie\, and their two kids\, Buck and Ben. But a serene weekend of fishing at a Wisconsin lakeside cabin gets crashed by Connie's obnoxious brother-in-law\, Roman Craig\, his wife\, Kate\, and the couple's two daughters. As the excursion wears on\, the Ripley's find themselves at odds with the stuffy Craig family. PG | 1 hour 31 minutes\n\n\n\nTickets\n\nMuseum Members   Complimentary\n\nGeneral Public   Included with admission to the museum.\n\n \n\nNote: Seating is available on a first-come first-served basis. Please plan accordingly. Also\, food and drink are not permitted in the Presentation Theatre. Thank you for your cooperation!
X-ALT-DESC;FMTTYPE=text/html:<span style="font-size:18px\;"><strong>Movies at the Museum</strong></span><br />\n<br />\n<strong>Friday\, March 20\, 2026 at 7:00 PM<br />\nSavoy Automobile Museum</strong><br />\n3 Savoy Lane\, Cartersville\, GA 30120\n<div>\n<div>\n<div>\n<div><br />\nThe Great Outdoors (1988)<br />\n<br />\nIt&rsquo\;s vacation time for outdoorsy Chicago man Chet Ripley\, along with his wife\, Connie\, and their two kids\, Buck and Ben. But a serene weekend of fishing at a Wisconsin lakeside cabin gets crashed by Connie&rsquo\;s obnoxious brother-in-law\, Roman Craig\, his wife\, Kate\, and the couple&rsquo\;s two daughters. As the excursion wears on\, the Ripley&rsquo\;s find themselves at odds with the stuffy Craig family. PG | 1 hour 31 minutes</div>\n\n<div><br />\n<strong>Tickets</strong><br />\n<strong>Museum Members</strong> &ndash\; Complimentary<br />\n<strong>General Public</strong> &ndash\; Included with admission to the museum.<br />\n&nbsp\;<br />\n<em>Note: Seating is available on a first-come first-served basis. Please plan accordingly. Also\, food and drink are not permitted in the Presentation Theatre. Thank you for your cooperation!</em></div>\n\n<div>&nbsp\;</div>\n\n<div>&nbsp\;</div>\n</div>\n</div>\n</div>\n
LOCATION:Savoy Automobile Museum 3 Savoy Lane Cartersville\, GA 30120
UID:e.1202.173729
SEQUENCE:3
DTSTAMP:20260421T174516Z
URL:https://business.cartersvillechamber.com/events/details/movies-at-the-museum-173729
END:VEVENT

END:VCALENDAR
