BEGIN:VCALENDAR
VERSION:2.0
PRODID:-//ChamberMaster//Event Calendar 2.0//EN
METHOD:PUBLISH
X-PUBLISHED-TTL:P3D
REFRESH-INTERVAL:P3D
CALSCALE:GREGORIAN
BEGIN:VEVENT
DTSTART:20240518T230000Z
DTEND:20240519T010000Z
X-MICROSOFT-CDO-ALLDAYEVENT:FALSE
SUMMARY:Music by the Tracks
DESCRIPTION:Music by the Tracks is a free community concert series presented by Glenda Mitchell Law Firm in historic downtown Cartersville that is great fun for the entire family!
X-ALT-DESC;FMTTYPE=text/html:<div class="xdj266r x11i5rnm xat24cr x1mh8g0r x1vvkbs" style="margin: 0px\; overflow-wrap: break-word\; font-family: inherit\;">Music by the Tracks is a free community concert series presented by Glenda Mitchell Law Firm in historic downtown Cartersville that is great fun for the entire family!</div>\n\n<div class="x11i5rnm xat24cr x1mh8g0r x1vvkbs xtlvy1s" style="margin: 0.5em 0px 0px\; overflow-wrap: break-word\; font-family: inherit\;">&nbsp\;</div>\n
LOCATION:
UID:e.1202.164132
SEQUENCE:3
DTSTAMP:20260423T004150Z
URL:https://business.cartersvillechamber.com/events/details/music-by-the-tracks-164132
END:VEVENT

END:VCALENDAR
