BEGIN:VCALENDAR
VERSION:2.0
PRODID:-//ChamberMaster//Event Calendar 2.0//EN
METHOD:PUBLISH
X-PUBLISHED-TTL:P3D
REFRESH-INTERVAL:P3D
CALSCALE:GREGORIAN
BEGIN:VEVENT
DTSTART:20260620T230000Z
DTEND:20260621T010000Z
X-MICROSOFT-CDO-ALLDAYEVENT:FALSE
SUMMARY:Music by the Tracks: KAMP
DESCRIPTION:Music by the Tracks night two and we're bringing KAMP\, Kevin Alan Music Project\, to Friendship Plaza on June 20th\, presented by Glenda Mitchell Law Firm!\n\n\n\nKAMP plays a little bit of everything\, the songs you grew up on and the ones you know right now. Fair warning though\, the dancing is basically unavoidable!\n\n\n\nJune 20th is also going to be an extra special evening. Black Bartow Events will be hosting a Juneteenth celebration at Friendship Plaza the same night. \n\n\n\nWe encourage everyone to explore our downtown restaurants\, bars\, and shops before the show and bring it all with you to enjoy at the plaza. If you want to guarantee the best seats\, go ahead and reserve a table by contacting the Cartersville DDA at 770-607-3480 or emailing ddainfo@downtowncartersville.com.
X-ALT-DESC;FMTTYPE=text/html:<div class="xdj266r x11i5rnm xat24cr x1mh8g0r x1vvkbs" style="margin: 0px\; overflow-wrap: break-word\; font-family: inherit\;">Music by the Tracks night two and we&#39\;re bringing KAMP\, Kevin Alan Music Project\, to Friendship Plaza on June 20th\, presented by Glenda Mitchell Law Firm!<br />\n<br />\nKAMP plays a little bit of everything\, the songs you grew up on and the ones you know right now. Fair warning though\, the dancing is basically unavoidable!<br />\n<br />\nJune 20th is also going to be an extra special evening. Black Bartow Events will be hosting a Juneteenth celebration at Friendship Plaza the same night.&nbsp\;<br />\n<br />\nWe encourage everyone to explore our downtown restaurants\, bars\, and shops before the show and bring it all with you to enjoy at the plaza. If you want to guarantee the best seats\, go ahead and reserve a table by contacting the Cartersville DDA at 770-607-3480 or emailing <a href="mailto:ddainfo@downtowncartersville.com">ddainfo@downtowncartersville.com</a>.</div>\n
LOCATION:Downtown Cartersville 1 Friendship Plaza Cartersville\, GA 30120
UID:e.1202.173705
SEQUENCE:3
DTSTAMP:20260421T185534Z
URL:https://business.cartersvillechamber.com/events/details/music-by-the-tracks-kamp-173705
END:VEVENT

END:VCALENDAR
