BEGIN:VCALENDAR
VERSION:2.0
PRODID:-//ChamberMaster//Event Calendar 2.0//EN
METHOD:PUBLISH
X-PUBLISHED-TTL:P3D
REFRESH-INTERVAL:P3D
CALSCALE:GREGORIAN
BEGIN:VEVENT
DTSTART:20250927T140000Z
DTEND:20250927T153000Z
X-MICROSOFT-CDO-ALLDAYEVENT:FALSE
SUMMARY:NAMI Ending the Silence
DESCRIPTION:NAMI Ending the Silence is a presentation that talks about the warning signs of mental health conditions and what to do if you see these signs in yourself\, your peers\, children\, or students.
X-ALT-DESC;FMTTYPE=text/html:<div><strong>NAMI Ending the Silence</strong>&nbsp\;is a presentation that talks about the warning signs of mental health conditions and what to do if you see these signs in yourself\, your peers\, children\, or students.</div>\n
LOCATION:Cartersville Public Library Classroom
UID:e.1202.171801
SEQUENCE:3
DTSTAMP:20260422T020919Z
URL:https://business.cartersvillechamber.com/events/details/nami-ending-the-silence-171801
END:VEVENT

END:VCALENDAR
