BEGIN:VCALENDAR
VERSION:2.0
PRODID:-//ChamberMaster//Event Calendar 2.0//EN
METHOD:PUBLISH
X-PUBLISHED-TTL:P3D
REFRESH-INTERVAL:P3D
CALSCALE:GREGORIAN
BEGIN:VEVENT
DTSTART;VALUE=DATE:20250512
DTEND;VALUE=DATE:20250518
TRANSP:TRANSPARENT
X-MICROSOFT-CDO-ALLDAYEVENT:TRUE
SUMMARY:National Salvation Army Week
DESCRIPTION:The Salvation Army of Cartersville invites the community to join in celebrating National Salvation Army Week\, May 12 18\, 2025. This annual observance honors the organization's long-standing commitment to serving individuals and families in need   not just during the holidays\, but every day of the year. "National Salvation Army Week is an opportunity to shine a light on the work we do every day in Cartersville\," said Sergeant Jennifer Duelley\, Corps Officer/Administrator\, The Salvation Army Cartersville Corps. "With the support of our donors\, volunteers\, and community partners\, we are able to offer hope and help to those who need it most."
X-ALT-DESC;FMTTYPE=text/html:The Salvation Army of Cartersville invites the community to join in celebrating National Salvation Army Week\, May 12&ndash\;18\, 2025. This annual observance honors the organization&#39\;s long-standing commitment to serving individuals and families in need &mdash\; not just during the holidays\, but every day of the year. &ldquo\;National Salvation Army Week is an opportunity to shine a light on the work we do every day in Cartersville\,&rdquo\; said Sergeant Jennifer Duelley\, Corps Officer/Administrator\, The Salvation Army Cartersville Corps. &ldquo\;With the support of our donors\, volunteers\, and community partners\, we are able to offer hope and help to those who need it most.&rdquo\;
LOCATION:16 Felton Pl. Cartersville\, GA 30120
UID:e.1202.170937
SEQUENCE:3
DTSTAMP:20260422T080703Z
URL:https://business.cartersvillechamber.com/events/details/national-salvation-army-week-170937
END:VEVENT

END:VCALENDAR
