BEGIN:VCALENDAR
VERSION:2.0
PRODID:-//ChamberMaster//Event Calendar 2.0//EN
METHOD:PUBLISH
X-PUBLISHED-TTL:P3D
REFRESH-INTERVAL:P3D
CALSCALE:GREGORIAN
BEGIN:VEVENT
DTSTART:20241012T140000Z
DTEND:20241012T160000Z
X-MICROSOFT-CDO-ALLDAYEVENT:FALSE
SUMMARY:Native Tree Walk
DESCRIPTION:Take a guided hike and learn all about native trees! All ages and pets allowed on leashes.
X-ALT-DESC;FMTTYPE=text/html:Take a guided hike and learn all about native trees! All ages and pets allowed on leashes.
LOCATION:Pettit Environmental Preserve (29 Vineyard Rd. SE Dallas\, GA 30132)
UID:e.1202.166945
SEQUENCE:3
DTSTAMP:20260422T165746Z
URL:https://business.cartersvillechamber.com/events/details/native-tree-walk-166945
END:VEVENT

END:VCALENDAR
