BEGIN:VCALENDAR
VERSION:2.0
PRODID:-//ChamberMaster//Event Calendar 2.0//EN
METHOD:PUBLISH
X-PUBLISHED-TTL:P3D
REFRESH-INTERVAL:P3D
CALSCALE:GREGORIAN
BEGIN:VEVENT
DTSTART:20251101T173000Z
DTEND:20251101T183000Z
X-MICROSOFT-CDO-ALLDAYEVENT:FALSE
SUMMARY:Nature Haiku at Red Top Mountain State Park
DESCRIPTION:Join us for a relaxing exploration of Haiku poetry! We will delve into its history and learn how to write proper haikus. For inspiration\, we will draw from the beauty we observe in the park. If you're interested in discovering this ancient art form\, please call us today to reserve your spot. Please remember to bring your own notebook and pen\, along with appropriate hiking attire. We will meet at the Visitor Center before heading to the Sweetgum Trail. If you have any questions\, feel free to call the Visitor Center or email us at redtopprogram@gmail.com.
X-ALT-DESC;FMTTYPE=text/html:Join us for a relaxing exploration of Haiku poetry! We will delve into its history and learn how to write proper haikus. For inspiration\, we will draw from the beauty we observe in the park. If you&#39\;re interested in discovering this ancient art form\, please call us today to reserve your spot. Please remember to bring your own notebook and pen\, along with appropriate hiking attire. We will meet at the Visitor Center before heading to the Sweetgum Trail. If you have any questions\, feel free to call the Visitor Center or email us at redtopprogram@gmail.com.
LOCATION:Red Top Mountain State Park 50 Lodge Rd. Acworth\, GA
UID:e.1202.171995
SEQUENCE:3
DTSTAMP:20260421T231516Z
URL:https://business.cartersvillechamber.com/events/details/nature-haiku-at-red-top-mountain-state-park-171995
END:VEVENT

END:VCALENDAR
