BEGIN:VCALENDAR
VERSION:2.0
PRODID:-//ChamberMaster//Event Calendar 2.0//EN
METHOD:PUBLISH
X-PUBLISHED-TTL:P3D
REFRESH-INTERVAL:P3D
CALSCALE:GREGORIAN
BEGIN:VEVENT
DTSTART:20260224T130000Z
DTEND:20260224T160000Z
X-MICROSOFT-CDO-ALLDAYEVENT:FALSE
SUMMARY:Navigating Change
DESCRIPTION:Customized for your front-line leaders\, our three-hour workshops are designed to provide essential skills for success. Presented in easily digestible segments\, these workshops concentrate on crucial abilities that deliver significant results without interrupting your team's daily workflow. This workshop focuses on equipping you with the tools and strategies to effectively lead your team through change.
X-ALT-DESC;FMTTYPE=text/html:Customized for your front-line leaders\, our three-hour workshops are designed to provide essential skills for success. Presented in easily digestible segments\, these workshops concentrate on crucial abilities that deliver significant results without interrupting your team&rsquo\;s daily workflow. This workshop focuses on equipping you with the tools and strategies to effectively lead your team through change.
LOCATION:Georgia Highlands College Cartersville Campus
UID:e.1202.173620
SEQUENCE:3
DTSTAMP:20260421T173830Z
URL:https://business.cartersvillechamber.com/events/details/navigating-change-02-24-2026-173620
END:VEVENT

END:VCALENDAR
