BEGIN:VCALENDAR
VERSION:2.0
PRODID:-//ChamberMaster//Event Calendar 2.0//EN
METHOD:PUBLISH
X-PUBLISHED-TTL:P3D
REFRESH-INTERVAL:P3D
CALSCALE:GREGORIAN
BEGIN:VEVENT
DTSTART:20240907T133000Z
DTEND:20240907T200000Z
X-MICROSOFT-CDO-ALLDAYEVENT:FALSE
SUMMARY:Netbook Quilted Bag
DESCRIPTION:Join Etowah Valley Quilt Guild for this fun\, one-day class to make a custom computer bag using your favorite fabrics and colors. We will be using the ByAnnie Netbook Computer Carriers II pattern. Advance registration and $35 class fee is required\, a supply list will be available at registration. Register at Cartersville Library Reference Desk.
X-ALT-DESC;FMTTYPE=text/html:<span style="background-color:rgb(255\, 255\, 255)\; color:rgb(62\, 62\, 62)\; font-family:system-ui\; font-size:12.8px">Join Etowah Valley Quilt Guild for this fun\, one-day class to make a custom computer bag using your favorite fabrics and colors. We will be using the ByAnnie Netbook Computer Carriers II pattern. Advance registration and $35 class fee is required\, a supply list will be available at registration.</span><span style="background-color:rgb(255\, 255\, 255)\; color:rgb(62\, 62\, 62)\; font-family:system-ui\; font-size:12.8px">&nbsp\;</span><span style="background-color:rgb(255\, 255\, 255)\; color:rgb(62\, 62\, 62)\; font-family:system-ui\; font-size:12.8px">Register at Cartersville Library Reference Desk.</span>
LOCATION:Cartersville Library Classroom 429 West Main Street Cartersville GA 30120 US
UID:e.1202.166214
SEQUENCE:3
DTSTAMP:20260422T185240Z
URL:https://business.cartersvillechamber.com/events/details/netbook-quilted-bag-166214
END:VEVENT

END:VCALENDAR
