BEGIN:VCALENDAR
VERSION:2.0
PRODID:-//ChamberMaster//Event Calendar 2.0//EN
METHOD:PUBLISH
X-PUBLISHED-TTL:P3D
REFRESH-INTERVAL:P3D
CALSCALE:GREGORIAN
BEGIN:VEVENT
DTSTART:20250911T153000Z
DTEND:20250911T173000Z
X-MICROSOFT-CDO-ALLDAYEVENT:FALSE
SUMMARY:"Networking Like a Pro" Workshop
DESCRIPTION:"Networking Like a Pro" Workshop\n\n\n\nThursday\, September 11\, 2025\, 11:30 AM - 1:30 PM\n\nFee: Free\n\n\n\nNetworking Like a Pro - Building relationships that attract new clients and more referrals \n\n\n\nIn this Live Online Workshop you will be instructed in how to:\n\n	Craft a compelling elevator pitch that leaves a lasting impression\n	Boost your self-confidence through practice\n	Enhance your conversational skills to engage others effectively\n	Make yourself more memorable\n	Cultivate strong\, lasting relationships\n\n\n\nRegister Online
X-ALT-DESC;FMTTYPE=text/html:<strong>&quot\;Networking Like a Pro</strong><strong>&quot\; Workshop<br />\n<br />\nThursday\, September 11\, 2025\, 11:30 AM - 1:30 PM<br />\nFee: Free</strong><br />\n<br />\n<strong>Networking Like a Pro</strong> - Building relationships that attract new clients and more referrals&nbsp\;<br />\n<br />\nIn this<strong> Live Online Workshop </strong>you will be instructed in how to:\n<ol>\n	<li>Craft a compelling elevator pitch that leaves a lasting impression</li>\n	<li>Boost your self-confidence through practice</li>\n	<li>Enhance your conversational skills to engage others effectively</li>\n	<li>Make yourself more memorable</li>\n	<li>Cultivate strong\, lasting relationships</li>\n</ol>\n<br />\n<a href="https://www.score.org/northmetroatlanta/event/networking-a-pro-0" target="_blank"><strong>Register Online</strong></a>
LOCATION:Online Workshop
UID:e.1202.171560
SEQUENCE:3
DTSTAMP:20260422T020600Z
URL:https://business.cartersvillechamber.com/events/details/networking-like-a-pro-workshop-171560
END:VEVENT

END:VCALENDAR
