BEGIN:VCALENDAR
VERSION:2.0
PRODID:-//ChamberMaster//Event Calendar 2.0//EN
METHOD:PUBLISH
X-PUBLISHED-TTL:P3D
REFRESH-INTERVAL:P3D
CALSCALE:GREGORIAN
BEGIN:VEVENT
DTSTART:20250212T230000Z
DTEND:20250213T010000Z
X-MICROSOFT-CDO-ALLDAYEVENT:FALSE
SUMMARY:Reformation Brewing Tap Takeover!
DESCRIPTION:Atlanta's Own\, Reformation Brewing\, will be at Come Hell or High Water @ Olive Tree & Vine for a Tap Takeover!\n\nTry some of Reformation's newest brews and win some cool swag!
X-ALT-DESC;FMTTYPE=text/html:Atlanta&#39\;s Own\, Reformation Brewing\, will be at Come Hell or High Water @ Olive Tree &amp\; Vine for a Tap Takeover!<br />\nTry some of Reformation&#39\;s newest brews and win some cool swag!&nbsp\;
LOCATION:Olive Tree & Vine 26 W Main St Cartersville\, Ga 30120
UID:e.1202.157138
SEQUENCE:3
DTSTAMP:20260422T115913Z
URL:https://business.cartersvillechamber.com/events/details/new-realm-brewing-tap-takeover-157138
END:VEVENT

END:VCALENDAR
