BEGIN:VCALENDAR
VERSION:2.0
PRODID:-//ChamberMaster//Event Calendar 2.0//EN
METHOD:PUBLISH
X-PUBLISHED-TTL:P3D
REFRESH-INTERVAL:P3D
CALSCALE:GREGORIAN
BEGIN:VEVENT
DTSTART:20260626T120000Z
DTEND:20260626T163000Z
X-MICROSOFT-CDO-ALLDAYEVENT:FALSE
SUMMARY:No-Cost Vein Screenings
DESCRIPTION:Join us every Monday and Friday at our Cartersville location for Free Vein Screenings! From 8:00 am to 12:30 pm\, North Georgia Vein and Aesthetics invites you to receive a complimentary vein screening. Our goal is to provide patients with a cost-free opportunity to assess their vein health and address any concerns they may have.\n\n\n\nOur amazing ultrasound tech will conduct an assessment to identify any veins that may require further attention\, helping you make informed decisions about your vein health. Don't miss out on this valuable opportunity to prioritize your vein health. Book your free vein screening appointment today!
X-ALT-DESC;FMTTYPE=text/html:Join us every Monday and Friday at our Cartersville location for Free Vein Screenings! From 8:00 am to 12:30 pm\, North Georgia Vein and Aesthetics invites you to receive a complimentary vein screening. Our goal is to provide patients with a cost-free opportunity to assess their vein health and address any concerns they may have.<br />\n<br />\nOur amazing ultrasound tech will conduct an assessment to identify any veins that may require further attention\, helping you make informed decisions about your vein health. Don&#39\;t miss out on this valuable opportunity to prioritize your vein health. Book your free vein screening appointment today!
LOCATION:636 E Main St. Cartersville\, Ga 30120
UID:e.1202.164649
SEQUENCE:3
DTSTAMP:20260421T185738Z
URL:https://business.cartersvillechamber.com/events/details/no-cost-vein-screenings-06-26-2026-164649
END:VEVENT

END:VCALENDAR
